BEGIN:VCALENDAR
CALSCALE:GREGORIAN
METHOD:PUBLISH
PRODID:-//104.17.188.78//NONSGML iCalcreator 2.6//
VERSION:2.0
BEGIN:VTIMEZONE
TZID:US/Eastern
LAST-MODIFIED:20040110T032845Z
BEGIN:DAYLIGHT
DTSTART:19900404T010000
TZOFFSETFROM:10400
TZOFFSETTO:-0400
RRULE:FREQ=YEARLY;BYMONTH=4;BYDAY=1SU
TZNAME:EDT
END:DAYLIGHT
BEGIN:STANDARD
DTSTART:19901026T060000
TZOFFSETFROM:-0400
TZOFFSETTO:10400
RRULE:FREQ=YEARLY;BYMONTH=10;BYDAY=-1SU
TZNAME:EST
END:STANDARD
END:VTIMEZONE
BEGIN:VEVENT
UID:20210426T010340EDT-0103kjOJu5@104.17.188.78
DTSTAMP:20210426T050340Z
DESCRIPTION:A Member's Only  Benefit\n\nZoom Call\n\n
DTSTART;TZID=US/Eastern:20200812T130000
DURATION:PT1H0M0S
LOCATION:Zoom Call
SUMMARY:Weekly Wednesday Webinar: Meet the Presenters: Speed Leads #1
END:VEVENT
END:VCALENDAR
