BEGIN:VCALENDAR
CALSCALE:GREGORIAN
METHOD:PUBLISH
PRODID:-//104.17.188.78//NONSGML iCalcreator 2.6//
VERSION:2.0
BEGIN:VTIMEZONE
TZID:US/Eastern
LAST-MODIFIED:20040110T032845Z
BEGIN:DAYLIGHT
DTSTART:19900404T010000
TZOFFSETFROM:10400
TZOFFSETTO:-0400
RRULE:FREQ=YEARLY;BYMONTH=4;BYDAY=1SU
TZNAME:EDT
END:DAYLIGHT
BEGIN:STANDARD
DTSTART:19901026T060000
TZOFFSETFROM:-0400
TZOFFSETTO:10400
RRULE:FREQ=YEARLY;BYMONTH=10;BYDAY=-1SU
TZNAME:EST
END:STANDARD
END:VTIMEZONE
BEGIN:VEVENT
UID:20210426T043510EDT-1126ruvchr@104.17.188.78
DTSTAMP:20210426T083510Z
DESCRIPTION:Learn more about the organization\, its goals and current initi
 atives\, upcoming events and knowledge sessions\, and membership value.\n
 \nHilton Concourse Level\, Concourse G\n1335 6th Ave\nNew York\, NY 10019
DTSTART;TZID=US/Eastern:20200112T101500
DURATION:PT1H0M0S
LOCATION:Hilton Concourse Level\, Concourse G
SUMMARY:Annual Membership Meeting (at APAP NYC)
END:VEVENT
END:VCALENDAR
