BEGIN:VCALENDAR
CALSCALE:GREGORIAN
METHOD:PUBLISH
PRODID:-//104.17.191.78//NONSGML iCalcreator 2.6//
VERSION:2.0
BEGIN:VTIMEZONE
TZID:US/Eastern
LAST-MODIFIED:20040110T032845Z
BEGIN:DAYLIGHT
DTSTART:19900404T010000
TZOFFSETFROM:10400
TZOFFSETTO:-0400
RRULE:FREQ=YEARLY;BYMONTH=4;BYDAY=1SU
TZNAME:EDT
END:DAYLIGHT
BEGIN:STANDARD
DTSTART:19901026T060000
TZOFFSETFROM:-0400
TZOFFSETTO:10400
RRULE:FREQ=YEARLY;BYMONTH=10;BYDAY=-1SU
TZNAME:EST
END:STANDARD
END:VTIMEZONE
BEGIN:VEVENT
UID:20210426T043508EDT-2159NnMpdb@104.17.191.78
DTSTAMP:20210426T083508Z
DESCRIPTION:At the upcoming APAP conference\, we will proudly give our 2019
  NAPAMA Awards to these two members of our community: \n\nHilton Midtown
 \n1335 6th Ave\nNew York\, NY 10019
DTSTART;TZID=US/Eastern:20200113T110000
DURATION:PT2H45M0S
LOCATION:Hilton Midtown
SUMMARY:NAPAMA 2019 Awards Presentation (at APAP Awards Luncheon)
END:VEVENT
END:VCALENDAR
